BEGIN:VCALENDAR
VERSION:2.0
PRODID:-//Things To Lou - ECPv6.15.20//NONSGML v1.0//EN
CALSCALE:GREGORIAN
METHOD:PUBLISH
X-ORIGINAL-URL:https://things-to-lou.com
X-WR-CALDESC:Events for Things To Lou
REFRESH-INTERVAL;VALUE=DURATION:PT1H
X-Robots-Tag:noindex
X-PUBLISHED-TTL:PT1H
BEGIN:VTIMEZONE
TZID:America/New_York
BEGIN:DAYLIGHT
TZOFFSETFROM:-0500
TZOFFSETTO:-0400
TZNAME:EDT
DTSTART:20250309T070000
END:DAYLIGHT
BEGIN:STANDARD
TZOFFSETFROM:-0400
TZOFFSETTO:-0500
TZNAME:EST
DTSTART:20251102T060000
END:STANDARD
BEGIN:DAYLIGHT
TZOFFSETFROM:-0500
TZOFFSETTO:-0400
TZNAME:EDT
DTSTART:20260308T070000
END:DAYLIGHT
BEGIN:STANDARD
TZOFFSETFROM:-0400
TZOFFSETTO:-0500
TZNAME:EST
DTSTART:20261101T060000
END:STANDARD
BEGIN:DAYLIGHT
TZOFFSETFROM:-0500
TZOFFSETTO:-0400
TZNAME:EDT
DTSTART:20270314T070000
END:DAYLIGHT
BEGIN:STANDARD
TZOFFSETFROM:-0400
TZOFFSETTO:-0500
TZNAME:EST
DTSTART:20271107T060000
END:STANDARD
END:VTIMEZONE
BEGIN:VEVENT
DTSTART;TZID=America/New_York:20260207T160000
DTEND;TZID=America/New_York:20260207T190000
DTSTAMP:20260422T205855
CREATED:20260128T051041Z
LAST-MODIFIED:20260128T051041Z
UID:10004193-1770480000-1770490800@things-to-lou.com
SUMMARY:Pre-Valentines Pinot Pop-Up
DESCRIPTION:A free wine tasting featuring our Pinot Blanc & Pinot Noir with Clayton & Crume! \n\n“Pinot Pop-Up” \n216 S Shelby St \nFebruary 7th 4-7pm \n 
URL:https://things-to-lou.com/events/pre-valentines-pinot-pop-up/
LOCATION:Clayton & Crume\, 216 S Shelby St\, Louisville\, KY\, 40202\, United States
CATEGORIES:Food & Drink,Wine / Winery
ATTACH;FMTTYPE=image/jpeg:https://things-to-lou.com/wp-content/uploads/2026/01/b85d8f9c-085e-460f-b7bc-69a59b1925f5-e1769576791267.jpg
END:VEVENT
END:VCALENDAR