BEGIN:VCALENDAR
VERSION:2.0
PRODID:-//Things To Lou - ECPv6.15.20//NONSGML v1.0//EN
CALSCALE:GREGORIAN
METHOD:PUBLISH
X-WR-CALNAME:Things To Lou
X-ORIGINAL-URL:https://things-to-lou.com
X-WR-CALDESC:Events for Things To Lou
REFRESH-INTERVAL;VALUE=DURATION:PT1H
X-Robots-Tag:noindex
X-PUBLISHED-TTL:PT1H
BEGIN:VTIMEZONE
TZID:America/New_York
BEGIN:DAYLIGHT
TZOFFSETFROM:-0500
TZOFFSETTO:-0400
TZNAME:EDT
DTSTART:20250309T070000
END:DAYLIGHT
BEGIN:STANDARD
TZOFFSETFROM:-0400
TZOFFSETTO:-0500
TZNAME:EST
DTSTART:20251102T060000
END:STANDARD
BEGIN:DAYLIGHT
TZOFFSETFROM:-0500
TZOFFSETTO:-0400
TZNAME:EDT
DTSTART:20260308T070000
END:DAYLIGHT
BEGIN:STANDARD
TZOFFSETFROM:-0400
TZOFFSETTO:-0500
TZNAME:EST
DTSTART:20261101T060000
END:STANDARD
BEGIN:DAYLIGHT
TZOFFSETFROM:-0500
TZOFFSETTO:-0400
TZNAME:EDT
DTSTART:20270314T070000
END:DAYLIGHT
BEGIN:STANDARD
TZOFFSETFROM:-0400
TZOFFSETTO:-0500
TZNAME:EST
DTSTART:20271107T060000
END:STANDARD
END:VTIMEZONE
BEGIN:VEVENT
DTSTART;TZID=America/New_York:20260116T190000
DTEND;TZID=America/New_York:20260116T220000
DTSTAMP:20260423T181445
CREATED:20260108T181242Z
LAST-MODIFIED:20260108T181242Z
UID:10003861-1768590000-1768600800@things-to-lou.com
SUMMARY:Harlem Globetrotters: 100 Year Tour
DESCRIPTION:This is a once-in-a-century celebration of 100 years of jaw-dropping “no way!” moves\, 100 years of “wow!” and 100 years of heart-pounding thrills! \nThe Harlem Globetrotters are bringing the 100 Year Tour to the KFC Yum! Center on Friday\, January 16\, 2026 with their most legendary tour ever. From gravity-defying dunks to game-changing tricks\, experience the team that redefined basketball! This is history you can feel\, and a celebration of 100 years of over-the-top fun with all-new surprises like the Golden Basketball by Spalding(R). Don’t miss your chance to be a part of the legacy! \nThis is a fan celebration from the moment you arrive with epic new pre-game magic\, unforgettable post-game interactions\, and the most fan-fueled experience in sports. \nTickets are on sale now at the KFC Yum! Center Box Office and on Ticketmaster \n***description from Yum! Center website
URL:https://things-to-lou.com/events/harlem-globetrotters-100-year-tour/
LOCATION:KFC Yum! Center\, 1 Arena Plaza\, Louisville\, KY\, 40202\, United States
CATEGORIES:Entertainment
END:VEVENT
END:VCALENDAR